BEGIN:VCALENDAR
VERSION:2.0
PRODID:-//TechDream - ECPv6.15.20//NONSGML v1.0//EN
CALSCALE:GREGORIAN
METHOD:PUBLISH
X-WR-CALNAME:TechDream
X-ORIGINAL-URL:https://www.tech-dream.com
X-WR-CALDESC:Events for TechDream
REFRESH-INTERVAL;VALUE=DURATION:PT1H
X-Robots-Tag:noindex
X-PUBLISHED-TTL:PT1H
BEGIN:VTIMEZONE
TZID:America/Los_Angeles
BEGIN:DAYLIGHT
TZOFFSETFROM:-0800
TZOFFSETTO:-0700
TZNAME:PDT
DTSTART:20210314T100000
END:DAYLIGHT
BEGIN:STANDARD
TZOFFSETFROM:-0700
TZOFFSETTO:-0800
TZNAME:PST
DTSTART:20211107T090000
END:STANDARD
BEGIN:DAYLIGHT
TZOFFSETFROM:-0800
TZOFFSETTO:-0700
TZNAME:PDT
DTSTART:20220313T100000
END:DAYLIGHT
BEGIN:STANDARD
TZOFFSETFROM:-0700
TZOFFSETTO:-0800
TZNAME:PST
DTSTART:20221106T090000
END:STANDARD
BEGIN:DAYLIGHT
TZOFFSETFROM:-0800
TZOFFSETTO:-0700
TZNAME:PDT
DTSTART:20230312T100000
END:DAYLIGHT
BEGIN:STANDARD
TZOFFSETFROM:-0700
TZOFFSETTO:-0800
TZNAME:PST
DTSTART:20231105T090000
END:STANDARD
END:VTIMEZONE
BEGIN:VEVENT
DTSTART;TZID=America/Los_Angeles:20221115T080000
DTEND;TZID=America/Los_Angeles:20221118T170000
DTSTAMP:20260423T095202
CREATED:20221109T222353Z
LAST-MODIFIED:20221109T222353Z
UID:3024-1668499200-1668790800@www.tech-dream.com
SUMMARY:electronica 2022
DESCRIPTION:Risho will exhibit at electronica 2022 on 11/15-18 to present PCB materials including high thermal conductive materials\, low-modulus and low-CTE materials\, white-colored materials for LED and low-loss materials. Please join us at booth #B1.235.
URL:https://www.tech-dream.com/events/electronica-2022/
ATTACH;FMTTYPE=image/jpeg:https://www.tech-dream.com/wp-content/uploads/2022/11/101611-electronica22-Werbemittel_Aussteller_1200x1200_E.jpg
END:VEVENT
END:VCALENDAR